BEGIN:VCALENDAR
VERSION:2.0
PRODID:SchoolNow
CALSCALE:GREGORIAN
BEGIN:VEVENT
UID:94fac914-d19e-11ee-8a39-0e426888975d
DTSTAMP:20240222T162232Z
SUMMARY:NO SCHOOL 02/23/24
URL;VALUE=URI:https://www.scbraves.net/schools/san-carlos-middle-school/cal
 endar/5381509/no-school-02-23-24
DTSTART;VALUE=DATE:20240223
DTEND;VALUE=DATE:20240224
END:VEVENT
END:VCALENDAR
