BEGIN:VCALENDAR
VERSION:2.0
PRODID:SchoolNow
CALSCALE:GREGORIAN
BEGIN:VEVENT
UID:0cf5ee46-c478-11ee-a925-0a5ffd5f9ba5
DTSTAMP:20240205T224358Z
SUMMARY:PARENT TEACHER CONFERENCE
LOCATION:SAN CARLOS MIDDLE SCHOOL CAMPUS
URL;VALUE=URI:https://www.scbraves.net/schools/san-carlos-middle-school/cal
 endar/5268538/parent-teacher-conference
DTSTART:20240215T160000Z
DTEND:20240216T010000Z
END:VEVENT
END:VCALENDAR
