BEGIN:VCALENDAR
VERSION:2.0
PRODID:SchoolNow
CALSCALE:GREGORIAN
BEGIN:VEVENT
UID:144c19d2-c477-11ee-8386-0af9c152e669
DTSTAMP:20240205T223701Z
SUMMARY:Jr. National Honor Society Induction Ceremony
LOCATION:SAN CARLOS MIDDLE SCHOOL CAFETERIA
URL;VALUE=URI:https://www.scbraves.net/schools/san-carlos-middle-school/cal
 endar/5268537/jr-national-honor-society-induction-ceremony
DTSTART:20240214T003000Z
DTEND:20240214T023000Z
END:VEVENT
END:VCALENDAR
