BEGIN:VCALENDAR
VERSION:2.0
PRODID:SchoolNow
CALSCALE:GREGORIAN
BEGIN:VEVENT
UID:e72598f8-107f-11ee-b01b-0a0dffa2a585
DTSTAMP:20230621T220641Z
SUMMARY:Open House
URL;VALUE=URI:https://www.scbraves.net/schools/san-carlos-middle-school/cal
 endar/4418882/open-house
DTSTART:20230727T230000Z
DTEND:20230728T010000Z
END:VEVENT
END:VCALENDAR
