BEGIN:VCALENDAR
VERSION:2.0
PRODID:SchoolNow
CALSCALE:GREGORIAN
BEGIN:VEVENT
UID:200e8b06-f66e-11ed-8591-0afb5cb8dc37
DTSTAMP:20230519T175356Z
SUMMARY:Middle School Volleyball and Football Deadline
URL;VALUE=URI:https://www.scbraves.net/schools/san-carlos-middle-school/cal
 endar/4269905/middle-school-volleyball-and-football-deadline
DTSTART;VALUE=DATE:20230804
DTEND;VALUE=DATE:20230805
END:VEVENT
END:VCALENDAR
