BEGIN:VCALENDAR
VERSION:2.0
PRODID:SchoolNow
CALSCALE:GREGORIAN
BEGIN:VEVENT
UID:6fec7f1e-e3ab-11ed-9eba-02037ebcd829
DTSTAMP:20230425T205457Z
SUMMARY:Summer School
URL;VALUE=URI:https://www.scbraves.net/schools/san-carlos-middle-school/cal
 endar/4125317/summer-school
DTSTART:20230605T203300Z
DTEND:20230629T143300Z
END:VEVENT
END:VCALENDAR
