BEGIN:VCALENDAR
VERSION:2.0
PRODID:SchoolNow
CALSCALE:GREGORIAN
BEGIN:VEVENT
UID:6a9ab998-e3a8-11ed-9f9b-02037ebcd829
DTSTAMP:20230510T162854Z
SUMMARY:Last Day of School
URL;VALUE=URI:https://www.scbraves.net/schools/san-carlos-middle-school/cal
 endar/4125316/last-day-of-school
DTSTART;VALUE=DATE:20230518
DTEND;VALUE=DATE:20230520
END:VEVENT
END:VCALENDAR
