BEGIN:VCALENDAR
VERSION:2.0
PRODID:SchoolNow
CALSCALE:GREGORIAN
BEGIN:VEVENT
UID:c63d64ea-c9ad-11ed-b491-0eec0262d3b7
DTSTAMP:20230323T190807Z
SUMMARY:8th Grade Promotion
URL;VALUE=URI:https://www.scbraves.net/schools/san-carlos-middle-school/cal
 endar/3912702/8th-grade-promotion
DTSTART:20230518T170000Z
DTEND:20230518T180000Z
END:VEVENT
END:VCALENDAR
