BEGIN:VCALENDAR
VERSION:2.0
PRODID:SchoolNow
CALSCALE:GREGORIAN
BEGIN:VEVENT
UID:50fe9ad8-c80d-11ed-a43a-029ae60ee25d
DTSTAMP:20230321T172503Z
SUMMARY:Parent Teacher Conferences
URL;VALUE=URI:https://www.scbraves.net/schools/san-carlos-middle-school/cal
 endar/3902667/parent-teacher-conferences
DTSTART:20230418T230000Z
DTEND:20230419T013000Z
END:VEVENT
END:VCALENDAR
