BEGIN:VCALENDAR
VERSION:2.0
PRODID:SchoolNow
CALSCALE:GREGORIAN
BEGIN:VEVENT
UID:fbb1c596-c80c-11ed-9d51-029ae60ee25d
DTSTAMP:20230321T172240Z
SUMMARY:Spirit Week
URL;VALUE=URI:https://www.scbraves.net/schools/san-carlos-middle-school/cal
 endar/3902666/spirit-week
DTSTART:20230501T150000Z
DTEND:20230505T223000Z
END:VEVENT
END:VCALENDAR
