BEGIN:VCALENDAR
VERSION:2.0
PRODID:SchoolNow
CALSCALE:GREGORIAN
BEGIN:VEVENT
UID:4e62e6dc-c80b-11ed-b6ac-0ec2bc7660b5
DTSTAMP:20230321T171127Z
SUMMARY:Spring Break
URL;VALUE=URI:https://www.scbraves.net/schools/san-carlos-middle-school/cal
 endar/3902661/spring-break
DTSTART:20230320T150000Z
DTEND:20230324T223000Z
END:VEVENT
END:VCALENDAR
